BEGIN:VCALENDAR
VERSION:2.0
PRODID:icalendar-ruby
CALSCALE:GREGORIAN
BEGIN:VTIMEZONE
TZID:America/New_York
BEGIN:DAYLIGHT
DTSTART:20250309T030000
TZOFFSETFROM:-0500
TZOFFSETTO:-0400
RRULE:FREQ=YEARLY;BYDAY=2SU;BYMONTH=3
TZNAME:EDT
END:DAYLIGHT
BEGIN:STANDARD
DTSTART:20241103T010000
TZOFFSETFROM:-0400
TZOFFSETTO:-0500
RRULE:FREQ=YEARLY;BYDAY=1SU;BYMONTH=11
TZNAME:EST
END:STANDARD
END:VTIMEZONE
BEGIN:VEVENT
DTSTAMP:20260425T011511Z
UID:qnhqaA
DTSTART;VALUE=DATE:20241119
DTEND;VALUE=DATE:20241123
CLASS:PUBLIC
CREATED:20231112T103842
DESCRIPTION: Network with fellow front-end and full-stack engineers\, learn
  from industry experts\, and promote your ideas. With a hybrid format of i
 n-person and remote participation\, you won't want to miss this opportunit
 y to connect and grow your skills. Take advantage of the chance to be a pa
 rt of the React Summit US conference. \n\n Starting from November 1\, dive
  into Pro and free workshops\, perfect your skills\, and connect with fell
 ow developers. On November 19\, join us for the in-person + remote day\, f
 illed with expert talks and interactive networking opportunities. And\, jo
 in on November 22 for the remote-only day\, live-streamed to the world. \n
 \n Website: http://reactsummit.us/ \n\n Twitter: https://twitter.com/React
 Summit \n
LAST-MODIFIED:20251127T043934
LOCATION:US + Online
ORGANIZER:mailto:events@gitnation.org
SUMMARY:React Summit US Edition 2024
URL;VALUE=URI:https://ti.to/gitnation/react-summit-us-edition-2024
URL;VALUE=URI:https://ti.to/gitnation/react-summit-us-edition-2024
END:VEVENT
END:VCALENDAR
