BEGIN:VCALENDAR
VERSION:2.0
PRODID:icalendar-ruby
CALSCALE:GREGORIAN
BEGIN:VTIMEZONE
TZID:Europe/Berlin
BEGIN:DAYLIGHT
DTSTART:20250330T030000
TZOFFSETFROM:+0100
TZOFFSETTO:+0200
RRULE:FREQ=YEARLY;BYDAY=-1SU;BYMONTH=3
TZNAME:CEST
END:DAYLIGHT
BEGIN:STANDARD
DTSTART:20241027T020000
TZOFFSETFROM:+0200
TZOFFSETTO:+0100
RRULE:FREQ=YEARLY;BYDAY=-1SU;BYMONTH=10
TZNAME:CET
END:STANDARD
END:VTIMEZONE
BEGIN:VEVENT
DTSTAMP:20260424T171020Z
UID:K0YNtA
DTSTART;TZID=Europe/Berlin:20241213T130000
DTEND;TZID=Europe/Berlin:20241216T220000
CLASS:PUBLIC
CREATED:20240604T133041
DESCRIPTION: Take part in the exploration of the React universe! \n\n Focus
 ing on in-depth talks\, hands-on workshops\, and developing new opportunit
 ies\, the React Day Berlin conference provides space for everyone to make 
 friends and collaborate on stellar apps. \n\n Join or 6th edition in 2024 
 to celebrate all things React and meet your fellow devs from industry-lead
 ing companies. This year's program will help you become more efficient at 
 solving technical issues\, but it will also fill your knowledge gaps in te
 am leadership and development soft skills. \n\n Since 2017\, the GitNation
  team has been running various React.js events for people passionate about
  Open Source and JavaScript engineering. React Day Berlin is going to unit
 e 800 of them in the German capital and thousands more online. \n\n Confer
 ence website: https://reactday.berlin \n\n All attendees\, speakers\, spon
 sors and volunteers at our conference are required to agree with the follo
 wing code of conduct. \n
LAST-MODIFIED:20251127T103934
LOCATION:Online
ORGANIZER:mailto:events@gitnation.org
SUMMARY:React Day Berlin Remote Only 2024
URL;VALUE=URI:https://ti.to/gitnation/react-day-berlin-remote-only-2024
URL;VALUE=URI:https://ti.to/gitnation/react-day-berlin-remote-only-2024
END:VEVENT
END:VCALENDAR
