BEGIN:VCALENDAR
VERSION:2.0
PRODID:icalendar-ruby
CALSCALE:GREGORIAN
BEGIN:VTIMEZONE
TZID:Europe/Berlin
BEGIN:DAYLIGHT
DTSTART:20270328T030000
TZOFFSETFROM:+0100
TZOFFSETTO:+0200
RRULE:FREQ=YEARLY;BYDAY=-1SU;BYMONTH=3
TZNAME:CEST
END:DAYLIGHT
BEGIN:STANDARD
DTSTART:20261025T020000
TZOFFSETFROM:+0200
TZOFFSETTO:+0100
RRULE:FREQ=YEARLY;BYDAY=-1SU;BYMONTH=10
TZNAME:CET
END:STANDARD
END:VTIMEZONE
BEGIN:VEVENT
DTSTAMP:20260420T044133Z
UID:HKbknA
DTSTART;VALUE=DATE:20261204
DTEND;VALUE=DATE:20261208
CLASS:PUBLIC
CREATED:20260401T215634
DESCRIPTION: Can't join React Day Berlin in-person in Berlin? \n\n Attend t
 he event remotely with all interactive features on December 4 &amp\; 7! Jo
 in speaker rooms\, discussion tables\, workshops &amp\; more! \n\n Focusin
 g on in-depth talks\, hands-on workshops\, and developing new opportunitie
 s\, the React Day Berlin conference provides space for everyone to make fr
 iends and collaborate on stellar apps. \n\n Join our 7th edition in 2026 t
 o celebrate all things React and meet your fellow devs from industry-leadi
 ng companies. This year's program will help you become more efficient at s
 olving technical issues\, but it will also fill your knowledge gaps in ful
 l-stack development &amp\; architecture\, growing to senior &amp\; techLea
 d as well AI-assisted coding. \n\n Since 2017\, the GitNation team has bee
 n running various React.js events for people passionate about Open Source 
 and JavaScript engineering. React Day Berlin is going to unite 800 of them
  in the German capital and thousands more online. \n\n Conference website:
  https://reactday.berlin \n\n All attendees\, speakers\, sponsors and volu
 nteers at our conference are required to agree with the following code of 
 conduct. \n
LAST-MODIFIED:20260410T110943
LOCATION:Online
ORGANIZER:mailto:events@gitnation.org
SUMMARY:React Day Berlin Remote Only 2026
URL;VALUE=URI:https://ti.to/gitnation/react-day-berlin-remote-2026
URL;VALUE=URI:https://ti.to/gitnation/react-day-berlin-remote-2026
END:VEVENT
END:VCALENDAR
