BEGIN:VCALENDAR
VERSION:2.0
PRODID:icalendar-ruby
CALSCALE:GREGORIAN
BEGIN:VTIMEZONE
TZID:Europe/Berlin
BEGIN:DAYLIGHT
DTSTART:20270328T030000
TZOFFSETFROM:+0100
TZOFFSETTO:+0200
RRULE:FREQ=YEARLY;BYDAY=-1SU;BYMONTH=3
TZNAME:CEST
END:DAYLIGHT
BEGIN:STANDARD
DTSTART:20261025T020000
TZOFFSETFROM:+0200
TZOFFSETTO:+0100
RRULE:FREQ=YEARLY;BYDAY=-1SU;BYMONTH=10
TZNAME:CET
END:STANDARD
END:VTIMEZONE
BEGIN:VEVENT
DTSTAMP:20260420T044432Z
UID:xiOdRw
DTSTART;VALUE=DATE:20261204
DTEND;VALUE=DATE:20261208
CLASS:PUBLIC
CREATED:20260327T125422
DESCRIPTION: Take part in the exploration of the React universe! \n\n Focus
 ing on in-depth talks\, hands-on workshops\, and developing new opportunit
 ies\, the React Day Berlin conference provides space for everyone to make 
 friends and collaborate on stellar apps. \n\n Join our 7th edition in 2026
  to celebrate all things React and meet your fellow devs from industry-lea
 ding companies. This year's program will help you become more efficient at
  solving technical issues\, but it will also fill your knowledge gaps in f
 ull-stack development &amp\; architecture\, growing to senior &amp\; techL
 ead as well AI-assisted coding. \n\n Since 2017\, the GitNation team has b
 een running various React.js events for people passionate about Open Sourc
 e and JavaScript engineering. React Day Berlin is going to unite 800 of th
 em in the German capital and thousands more online. \n\n Conference websit
 e: https://reactday.berlin \n\n All attendees\, speakers\, sponsors and vo
 lunteers at our conference are required to agree with the following code o
 f conduct. \n
LAST-MODIFIED:20260410T111839
LOCATION:Berlin\, Germany
ORGANIZER:mailto:events@gitnation.org
SUMMARY:React Day Berlin 2026
URL;VALUE=URI:https://ti.to/gitnation/react-day-berlin-2026
URL;VALUE=URI:https://ti.to/gitnation/react-day-berlin-2026
END:VEVENT
END:VCALENDAR
