BEGIN:VCALENDAR
VERSION:2.0
PRODID:icalendar-ruby
CALSCALE:GREGORIAN
BEGIN:VTIMEZONE
TZID:Europe/Berlin
BEGIN:DAYLIGHT
DTSTART:20240331T030000
TZOFFSETFROM:+0100
TZOFFSETTO:+0200
RRULE:FREQ=YEARLY;BYDAY=-1SU;BYMONTH=3
TZNAME:CEST
END:DAYLIGHT
BEGIN:STANDARD
DTSTART:20231029T020000
TZOFFSETFROM:+0200
TZOFFSETTO:+0100
RRULE:FREQ=YEARLY;BYDAY=-1SU;BYMONTH=10
TZNAME:CET
END:STANDARD
END:VTIMEZONE
BEGIN:VEVENT
DTSTAMP:20260420T164449Z
UID:GnFqJg
DTSTART;VALUE=DATE:20231208
DTEND;VALUE=DATE:20231213
CLASS:PUBLIC
CREATED:20230313T150024
DESCRIPTION: Take part in the exploration of the React universe! \n\n Focus
 ing on in-depth talks\, hands-on workshops\, and developing new opportunit
 ies\, the React Day Berlin conference provides space for everyone to make 
 friends and collaborate on stellar apps. \n\n Join or 5th edition in 2023 
 to celebrate all things React and meet your fellow devs from industry-lead
 ing companies. This year's program will help you become more efficient at 
 solving technical issues\, but it will also fill your knowledge gaps in te
 am leadership and development soft skills. \n\n Since 2017\, the GitNation
  team has been running various React.js events for people passionate about
  Open Source and JavaScript engineering. React Day Berlin is going to unit
 e 800 of them in the German capital and thousands more online. \n\n Confer
 ence website: https://reactday.berlin \n\n All attendees\, speakers\, spon
 sors and volunteers at our conference are required to agree with the follo
 wing code of conduct. \n
LAST-MODIFIED:20251127T103934
LOCATION:Berlin\, Germany
ORGANIZER:mailto:events@gitnation.org
SUMMARY:React Day Berlin 2023
URL;VALUE=URI:https://ti.to/gitnation/react-day-berlin-2023
URL;VALUE=URI:https://ti.to/gitnation/react-day-berlin-2023
END:VEVENT
END:VCALENDAR
