BEGIN:VCALENDAR
VERSION:2.0
PRODID:icalendar-ruby
CALSCALE:GREGORIAN
BEGIN:VTIMEZONE
TZID:Europe/London
BEGIN:DAYLIGHT
DTSTART:20230326T020000
TZOFFSETFROM:+0000
TZOFFSETTO:+0100
RRULE:FREQ=YEARLY;BYDAY=-1SU;BYMONTH=3
TZNAME:BST
END:DAYLIGHT
BEGIN:STANDARD
DTSTART:20231029T010000
TZOFFSETFROM:+0100
TZOFFSETTO:+0000
RRULE:FREQ=YEARLY;BYDAY=-1SU;BYMONTH=10
TZNAME:GMT
END:STANDARD
END:VTIMEZONE
BEGIN:VEVENT
DTSTAMP:20260423T081157Z
UID:mRDqiQ
DTSTART;VALUE=DATE:20231020
DTEND;VALUE=DATE:20231024
CLASS:PUBLIC
CREATED:20230103T124528
DESCRIPTION: Can't join React Advanced in-person in London? \n\n Attend the
  event remotely with all interactive features on Oct 20 &amp\; 23! Join sp
 eaker rooms\, discussion tables\, workshops &amp\; more! \n\n React ecosys
 tem and community have grown drastically in the last years\, also did comp
 lexity of web and JavaScript Apps development. It's dangerous to follow th
 is journey alone - connect with the global network of field experts and le
 arn the behind the scenes insights directly.\nEngineers of any level are w
 elcome\, but be prepared for hardcore. \n\n Conference brought to you by c
 reators of React Summit and FocusReactive experts. \n\n Conference website
 : https://reactadvanced.com \n\n In-person participation tickets: https://
 ti.to/gitnation/react-advanced-london-2023 \n\n All attendees\, speakers\,
  sponsors and volunteers at our conference are required to agree with the 
 following code of conduct. \n
LAST-MODIFIED:20251127T093934
LOCATION:Online
ORGANIZER:mailto:events@gitnation.org
SUMMARY:React Advanced Remote Only 2023
URL;VALUE=URI:https://ti.to/gitnation/react-advanced-remote-only-2023
URL;VALUE=URI:https://ti.to/gitnation/react-advanced-remote-only-2023
END:VEVENT
END:VCALENDAR
