BEGIN:VCALENDAR
VERSION:2.0
PRODID:icalendar-ruby
CALSCALE:GREGORIAN
BEGIN:VTIMEZONE
TZID:Europe/London
BEGIN:DAYLIGHT
DTSTART:20260329T020000
TZOFFSETFROM:+0000
TZOFFSETTO:+0100
RRULE:FREQ=YEARLY;BYDAY=-1SU;BYMONTH=3
TZNAME:BST
END:DAYLIGHT
BEGIN:STANDARD
DTSTART:20261025T010000
TZOFFSETFROM:+0100
TZOFFSETTO:+0000
RRULE:FREQ=YEARLY;BYDAY=-1SU;BYMONTH=10
TZNAME:GMT
END:STANDARD
END:VTIMEZONE
BEGIN:VEVENT
DTSTAMP:20260424T205727Z
UID:si1rgw
DTSTART;VALUE=DATE:20261023
DTEND;VALUE=DATE:20261027
CLASS:PUBLIC
CREATED:20260211T163016
DESCRIPTION: Are you into React\, Engineering leadership\, Design systems &
 amp\; more\, and hungry to learn from the best? \n\n React ecosystem and c
 ommunity have grown drastically in the last years\, also did complexity of
  web and JavaScript Apps development. It's dangerous to follow this journe
 y alone - connect with the global network of field experts and learn the b
 ehind the scenes insights directly.\nEngineers of any level are welcome\, 
 but be prepared for hardcore. \n\n Conference brought to you by creators o
 f React Summit and FocusReactive experts. \n\n Conference website: https:/
 /reactadvanced.com \n\n All attendees\, speakers\, sponsors and volunteers
  at our conference are required to agree with the following code of conduc
 t. \n
LAST-MODIFIED:20260416T141045
LOCATION:London
ORGANIZER:mailto:events@gitnation.org
SUMMARY:React Advanced Conference 2026
URL;VALUE=URI:https://ti.to/gitnation/react-advanced-london-2026
URL;VALUE=URI:https://ti.to/gitnation/react-advanced-london-2026
END:VEVENT
END:VCALENDAR
