BEGIN:VCALENDAR
VERSION:2.0
PRODID:icalendar-ruby
CALSCALE:GREGORIAN
BEGIN:VTIMEZONE
TZID:Europe/Amsterdam
BEGIN:DAYLIGHT
DTSTART:20250330T030000
TZOFFSETFROM:+0100
TZOFFSETTO:+0200
RRULE:FREQ=YEARLY;BYDAY=-1SU;BYMONTH=3
TZNAME:CEST
END:DAYLIGHT
BEGIN:STANDARD
DTSTART:20241027T020000
TZOFFSETFROM:+0200
TZOFFSETTO:+0100
RRULE:FREQ=YEARLY;BYDAY=-1SU;BYMONTH=10
TZNAME:CET
END:STANDARD
END:VTIMEZONE
BEGIN:VEVENT
DTSTAMP:20260420T172637Z
UID:zpAVCg
DTSTART;TZID=Europe/Amsterdam:20250327T160000
DTEND;TZID=Europe/Amsterdam:20250328T210000
CLASS:PUBLIC
CREATED:20241006T223601
DESCRIPTION: JOIN LEADING EXPERTS IN PRACTICAL AI\, NO-CODE AND PRODUCTIVIT
 Y BOOSTING SOLUTIONS \n\n We gather industry brightest minds to discuss th
 e best strategies and tools for building personal productivity and scaling
  your operations in a tech-forward era. Learn from practical workshops\, e
 arly adopter case studies and network with like-minded professionals. \n\n
  This year Remote format\, covering a wide ranging of growing solutions in
 dustry. Next year we meet for in-person Productivity Fair in Amsterdam. \n
 \n Conference website: https://productivityconf.com/developers/ \n\n Follo
 w us on socials: https://x.com/__productivity_ \n\n All attendees\, speake
 rs\, sponsors\, and volunteers at our conference are required to agree wit
 h the following code of conduct. \n
LAST-MODIFIED:20251127T103934
LOCATION:Online
ORGANIZER:mailto:events@gitnation.org
SUMMARY:Productivity Conference for Devs and Tech Leads
URL;VALUE=URI:https://ti.to/gitnation/productivity-conference-dev
URL;VALUE=URI:https://ti.to/gitnation/productivity-conference-dev
END:VEVENT
END:VCALENDAR
