BEGIN:VCALENDAR
VERSION:2.0
PRODID:icalendar-ruby
CALSCALE:GREGORIAN
BEGIN:VTIMEZONE
TZID:Europe/London
BEGIN:DAYLIGHT
DTSTART:20230326T020000
TZOFFSETFROM:+0000
TZOFFSETTO:+0100
RRULE:FREQ=YEARLY;BYDAY=-1SU;BYMONTH=3
TZNAME:BST
END:DAYLIGHT
BEGIN:STANDARD
DTSTART:20231029T010000
TZOFFSETFROM:+0100
TZOFFSETTO:+0000
RRULE:FREQ=YEARLY;BYDAY=-1SU;BYMONTH=10
TZNAME:GMT
END:STANDARD
END:VTIMEZONE
BEGIN:VEVENT
DTSTAMP:20260420T164204Z
UID:2pqyQQ
DTSTART;VALUE=DATE:20230510
DTEND;VALUE=DATE:20230511
CLASS:PUBLIC
CREATED:20230428T124816
DESCRIPTION: Vue.js London communities gathering on May 10! \n\n All detail
 s on the event page \n\n Any questions? Email us: events@gitnation.org \n
LAST-MODIFIED:20251127T093934
LOCATION:ZAVA office - 46 Essex Road · London
ORGANIZER:mailto:events@gitnation.org
SUMMARY:Pre-Meetup Vue.js Live Conference / May 10
URL;VALUE=URI:https://ti.to/gitnation/pre-meetup-vuejs-live-conference-may-
 10
URL;VALUE=URI:https://ti.to/gitnation/pre-meetup-vuejs-live-conference-may-
 10
END:VEVENT
END:VCALENDAR
