BEGIN:VCALENDAR
VERSION:2.0
PRODID:icalendar-ruby
CALSCALE:GREGORIAN
BEGIN:VTIMEZONE
TZID:Europe/Amsterdam
BEGIN:DAYLIGHT
DTSTART:20230326T030000
TZOFFSETFROM:+0100
TZOFFSETTO:+0200
RRULE:FREQ=YEARLY;BYDAY=-1SU;BYMONTH=3
TZNAME:CEST
END:DAYLIGHT
BEGIN:STANDARD
DTSTART:20221030T020000
TZOFFSETFROM:+0200
TZOFFSETTO:+0100
RRULE:FREQ=YEARLY;BYDAY=-1SU;BYMONTH=10
TZNAME:CET
END:STANDARD
END:VTIMEZONE
BEGIN:VEVENT
DTSTAMP:20260422T142713Z
UID:zUjNrw
DTSTART;VALUE=DATE:20221208
DTEND;VALUE=DATE:20221210
CLASS:PUBLIC
CREATED:20220708T233527
DESCRIPTION: THE BIGGEST GRAPHQL CONFERENCE IN THE CLOUD \n\n 20+ GraphQL e
 xperts.\nPro &amp\; Free workshops.\nThe future of APIs. \n\n Want to know
  the future of the GraphQL ecosystem and get in touch with its stellar pro
 s? Attend a conference on all things GQL\, gathering thousands of internat
 ional software engineers in the cloud in 2022. \n\n Conference website: gr
 aphqlgalaxy.com \n\n Full Ticket with Multipass (from 17/month) - https://
 portal.gitnation.org/multipass \n
LAST-MODIFIED:20251127T103934
LOCATION:Online
ORGANIZER:mailto:events@gitnation.org
SUMMARY:GraphQL Galaxy 2022
URL;VALUE=URI:https://ti.to/gitnation/graphql-galaxy-2022
URL;VALUE=URI:https://ti.to/gitnation/graphql-galaxy-2022
END:VEVENT
END:VCALENDAR
