BEGIN:VCALENDAR
VERSION:2.0
PRODID:icalendar-ruby
CALSCALE:GREGORIAN
BEGIN:VEVENT
DTSTAMP:20260421T114500Z
UID:juTKhw
DTSTART;VALUE=DATE:20160419
DTEND;VALUE=DATE:20160420
CLASS:PUBLIC
CREATED:20160315T152208
DESCRIPTION: Join us for a night of hands-on hacking and learning about Git
  and GitHub. \n\n GitHubbers @kaihj\, @carmenpalmar\, and @bitoiu\, as wel
 l as local community mentors\, will be on hand to walk you through your ch
 oice of learning modules: \n\n \n Introduction to Git \n Introduction to G
 itHub \n Creating a Site with GitHub Pages \n \n\n If you have questions a
 bout the command line\, GUIs\, or anything Git and GitHub-related\, we're 
 here to help. \n\n Food and refreshments will be available. \n\n If you do
  not yet have a GitHub account\, we ask that you sign up at https://github
 .com before you attend the event. It's fast\, easy\, and of course\, free.
  That way you'll be ready to go right out of the gate. \n\n Mentors\, you'
 ll receive an email a few days before the event with details about what to
  expect and the curriculum. \n\n Details: \n\n \n For: Git and GitHub begi
 nners \n When?  April 19\, 2016\, 6:30-9:00pm \n Where? GROW@Green Park\, 
 250 South Oak Way\, Green Park\, Reading\, RG2 6UG  \n \n
LAST-MODIFIED:20160412T101541
LOCATION:GROW@Green Park\, 250 South Oak Way\, Green Park\, Reading RG2 6UG
  
ORGANIZER:mailto:patchwork@github.com
SUMMARY:Patchwork Reading
URL;VALUE=URI:https://ti.to/github-events/patchwork-reading-2016
URL;VALUE=URI:https://ti.to/github-events/patchwork-reading-2016
END:VEVENT
END:VCALENDAR
