BEGIN:VCALENDAR
VERSION:2.0
PRODID:icalendar-ruby
CALSCALE:GREGORIAN
BEGIN:VEVENT
DTSTAMP:20260421T102630Z
UID:ItMFjg
DTSTART;VALUE=DATE:20170511
DTEND;VALUE=DATE:20170512
CLASS:PUBLIC
CREATED:20170422T131511
DESCRIPTION: In this edition of our Patchwork events\, we join forces with 
 the Phoenix Version Control Meetup! This event is open to beginners to Git
  and GitHub\, and mentors who want to help others learn. We'll have sticke
 rs for everyone\, and a little something extra for the mentors\, so we hop
 e to see you there.  \n\n GitHubbers and community mentors\, will be on ha
 nd to walk the attendees through their choice of learning modules: \n\n \n
  GitHub 101: Introduction to GitHub \n GitHub 102: Using the GitHub Deskto
 p \n GitHub 103: Using the Command Line \n \n\n If you have questions abou
 t the command line\, GUIs\, or anything Git and GitHub-related\, they're h
 ere to help. \n\n Food and refreshments will be available. \n\n If you do 
 not yet have a GitHub account\, we ask that you sign up at https://github.
 com before you attend the event. It's fast\, easy\, and of course\, free. 
 That way you'll be ready to go right out of the gate. \n\n Mentors\, you'l
 l receive an email a few days before the event with details about what to 
 expect and the curriculum. \n\n Details: \n\n \n For: Beginners to Git and
  GitHub \n When?  May 11\, 2017\, 6:30-9:30 pm \n Where? Galvanize\, 515 E
  Grant St\, Phoenix\, AZ 85004 \n \n
LAST-MODIFIED:20170526T113529
LOCATION:Galvanize\, 515 E Grant St\, Phoenix\, AZ 85004
ORGANIZER:mailto:patchwork@github.com
SUMMARY:Patchwork Phoenix with Version Control Meetup
URL;VALUE=URI:https://ti.to/github-events/patchwork-phoenix-vcm-2017
URL;VALUE=URI:https://ti.to/github-events/patchwork-phoenix-vcm-2017
END:VEVENT
END:VCALENDAR
