BEGIN:VCALENDAR
VERSION:2.0
PRODID:icalendar-ruby
CALSCALE:GREGORIAN
BEGIN:VEVENT
DTSTAMP:20260419T163910Z
UID:sxaxBA
DTSTART;VALUE=DATE:20150210
DTEND;VALUE=DATE:20150211
CLASS:PUBLIC
CREATED:20150119T012004
DESCRIPTION:  \n\n GitHubbers @shiftkey\, @michaeltwofish\, @rachelmyers\, 
 @Foggybtmgirl\, and others\, as well as local community mentors will be on
  hand to walk you through the Hello World tutorial\, answer your questions
 \, help you create your first open source project and achieve your first m
 erged Pull Request. \n\n If you have questions about the command line\, GU
 Is\, or anything Git and GitHub-related\, we're here to help. \n\n Food an
 d refreshments will be available. \n\n Mentors\, you'll receive an email a
  few days before the event with details about what to expect and the curri
 culum. We'll be teaching Git concepts and making a Pull Request using the 
 GitHub Flow and Hello World tutorial guide. \n\n Details: \n\n \n For: Git
  and GitHub beginners. \n When? Tuesday\, February 10\, 2015\, 6:00-9:00pm
 . \n Where? Xero\, 1/6 Elizabeth Street\, Hawthorn VIC 3122\, Australia \n
  \n
LAST-MODIFIED:20150209T145805
LOCATION:Melbourne\, Australia
ORGANIZER:mailto:brendan@github.com
SUMMARY:Patchwork Melbourne
URL;VALUE=URI:https://ti.to/github-events/patchwork-melbourne
URL;VALUE=URI:https://ti.to/github-events/patchwork-melbourne
END:VEVENT
END:VCALENDAR
