BEGIN:VCALENDAR
VERSION:2.0
PRODID:icalendar-ruby
CALSCALE:GREGORIAN
BEGIN:VEVENT
DTSTAMP:20260426T002307Z
UID:4Pzafg
DTSTART;VALUE=DATE:20160318
DTEND;VALUE=DATE:20160319
CLASS:PUBLIC
CREATED:20160225T164404
DESCRIPTION: Join us for a night of hands-on hacking and learning about Git
  and GitHub. \n\n GitHubber @anaisFTW\, as well as local community mentors
 \, will be on hand to walk you through your choice of learning modules: \n
 \n \n Introduction to Git \n Introduction to GitHub \n Creating a Site wit
 h GitHub Pages \n \n\n If you have questions about the command line\, GUIs
 \, or anything Git and GitHub-related\, we're here to help. \n\n Food and 
 refreshments will be available. \n\n If you do not yet have a GitHub accou
 nt\, we ask that you sign up at https://github.com before you attend the e
 vent. It's fast\, easy\, and of course\, free. That way you'll be ready to
  go right out of the gate. \n\n Mentors\, you'll receive an email a few da
 ys before the event with details about what to expect and the curriculum. 
 \n\n Details: \n\n \n For: Git and GitHub beginners \n When?  March 18\, 2
 016\, 6:30-9:30 pm \n Where? Room G.0208\, CCS Building\, University of Te
 xas El Paso\, 799689\, 500 W University Ave\, El Paso\, TX 79902 \n \n\n  
 \n
LAST-MODIFIED:20160315T152209
LOCATION:Room G.0208\, CCS Building\, University of Texas El Paso\, 799689\
 , 500 W University Ave\, El Paso\, TX 79902
ORGANIZER:mailto:patchwork@github.com
SUMMARY:Patchwork El Paso
URL;VALUE=URI:https://ti.to/github-events/patchwork-elpaso-2016
URL;VALUE=URI:https://ti.to/github-events/patchwork-elpaso-2016
END:VEVENT
END:VCALENDAR
