BEGIN:VCALENDAR
VERSION:2.0
PRODID:icalendar-ruby
CALSCALE:GREGORIAN
BEGIN:VEVENT
DTSTAMP:20260419T225848Z
UID:FRH5tQ
DTSTART;VALUE=DATE:20160830
DTEND;VALUE=DATE:20160831
CLASS:PUBLIC
CREATED:20160706T211043
DESCRIPTION: Join us as we host this Patchwork with our friends at Improvin
 g (Dallas location) for a night of hands-on hacking and learning about Git
  and GitHub. \n\n  \n\n A host of GitHubbers\, as well as local community 
 mentors\, will be on hand to walk you through your choice of learning modu
 les: \n\n \n Introduction to Git \n Introduction to GitHub \n \n\n If you 
 have questions about the command line\, GUIs\, or anything Git and GitHub-
 related\, we're here to help. \n\n Food and refreshments will be available
 . \n\n If you do not yet have a GitHub account\, we ask that you sign up a
 t https://github.com before you attend the event. It's fast\, easy\, and o
 f course\, free. That way you'll be ready to go right out of the gate. \n\
 n Mentors\, you'll receive an email a few days before the event with detai
 ls about what to expect and the curriculum. \n\n Details: \n\n \n For: Git
  and GitHub beginners \n When?  August 30\, 6:30-9\;30 pm \n Where?   Impr
 oving Dallas\, 16633 Dallas Parkway\, Suite 100\, Addison\, TX 75001 \n \n
LAST-MODIFIED:20160830T205718
LOCATION:Improving\, 16633 Dallas Parkway\, Suite 100\, Addison\, TX 75001
ORGANIZER:mailto:patchwork@github.com
SUMMARY:Patchwork Dallas
URL;VALUE=URI:https://ti.to/github-events/patchwork-dallas-2016
URL;VALUE=URI:https://ti.to/github-events/patchwork-dallas-2016
END:VEVENT
END:VCALENDAR
