BEGIN:VCALENDAR
VERSION:2.0
PRODID:icalendar-ruby
CALSCALE:GREGORIAN
BEGIN:VEVENT
DTSTAMP:20260425T113302Z
UID:RBIqmg
DTSTART;VALUE=DATE:20141124
DTEND;VALUE=DATE:20141125
CLASS:PUBLIC
CREATED:20141118T154554
DESCRIPTION:  \n\n November 24\, 2014 \n\n 6:30-9pm \n\n TechColumbus\n1275
  Kinnear Rd\, Columbus\, OH 43212 \n\n Patchwork is a hands on workshop fo
 r learning Git and GitHub. There will be snacks for hackin'\, lots to lear
 n\, and new friends to be made.  \n\n We'll have GitHub staff and other op
 en source  mentors to lend a hand as attendees make their way through the 
 workshop. \n
LAST-MODIFIED:20141124T233826
LOCATION:TechColumbus\, 1275 Kinnear Rd\, Columbus\, OH 43212
ORGANIZER:mailto:cb@github.com
SUMMARY:Patchwork Columbus
URL;VALUE=URI:https://ti.to/github-events/patchwork-columbus
URL;VALUE=URI:https://ti.to/github-events/patchwork-columbus
END:VEVENT
END:VCALENDAR
