BEGIN:VCALENDAR
VERSION:2.0
PRODID:icalendar-ruby
CALSCALE:GREGORIAN
BEGIN:VEVENT
DTSTAMP:20260426T002405Z
UID:djzXSA
DTSTART;VALUE=DATE:20151028
DTEND;VALUE=DATE:20151029
CLASS:PUBLIC
CREATED:20151014T135218
DESCRIPTION:  \n\n Join us at Industry Co-working for a night of hands-on h
 acking and learning about Git and GitHub. \n\n GitHubbers @crichID\, @jdpa
 ce\, and @loranallensmith \, as well as local community mentors\, will be 
 on hand to walk you through the Hello World tutorial\, answer your questio
 ns\, help you create your first open source project and achieve your first
  merged Pull Request. \n\n If you have questions about the command line\, 
 GUIs\, or anything Git and GitHub-related\, we're here to help. \n\n Food 
 and refreshments will be available. \n\n If you do not yet have a GitHub a
 ccount\, we ask that you sign up at https://github.com before you attend t
 he event. It's fast\, easy\, and of course\, free. That way you'll be read
 y to go right out of the gate. \n\n Mentors\, you'll receive an email a fe
 w days before the event with details about what to expect and the curricul
 um. We'll be teaching Git concepts and making a Pull Request using the Git
 Hub Flow and Hello World tutorial guide. \n\n Details: \n\n \n For: Git an
 d GitHub beginners \n When? October 28\, 6:30-9:30 \n Where? 1000 North Ca
 rolina Music Factory Blvd\, Charlotte\, NC 28206 \n \n
LAST-MODIFIED:20151118T150736
LOCATION:Charlotte\, NC
ORGANIZER:mailto:patchwork@github.com
SUMMARY:Patchwork Charlotte
URL;VALUE=URI:https://ti.to/github-events/patchwork-charlotte
URL;VALUE=URI:https://ti.to/github-events/patchwork-charlotte
END:VEVENT
END:VCALENDAR
