BEGIN:VCALENDAR
VERSION:2.0
PRODID:icalendar-ruby
CALSCALE:GREGORIAN
BEGIN:VEVENT
DTSTAMP:20260426T002604Z
UID:CKMYtQ
DTSTART;VALUE=DATE:20151014
DTEND;VALUE=DATE:20151015
CLASS:PUBLIC
CREATED:20150911T143109
DESCRIPTION:  \n\n Join us at Wistia for a night of hands-on hacking and le
 arning about Git and GitHub. \n\n GitHubbers @kdaigle\, @mfilosa\, and @br
 ennaheaps as well as local community mentors\, will be on hand to walk you
  through the Hello World tutorial\, answer your questions\, help you creat
 e your first open source project and achieve your first merged Pull Reques
 t. \n\n If you have questions about the command line\, GUIs\, or anything 
 Git and GitHub-related\, we're here to help. \n\n Food and refreshments wi
 ll be available. \n\n If you do not yet have a GitHub account\, we ask tha
 t you sign up at https://github.com before you attend the event. It's fast
 \, easy\, and of course\, free. That way you'll be ready to go right out o
 f the gate. \n\n Mentors\, you'll receive an email a few days before the e
 vent with details about what to expect and the curriculum. We'll be teachi
 ng Git concepts and making a Pull Request using the GitHub Flow and Hello 
 World tutorial guide. \n\n Details: \n\n \n For: Git and GitHub beginners 
 \n When? October 14\, 6:00-9:00pm \n Where? Wistia\, 17 Tudor St\, Cambrid
 ge\, MA 02139 \n \n
LAST-MODIFIED:20151014T200907
LOCATION:Wistia\, 17 Tudor St\, Cambridge\, MA 02139
ORGANIZER:mailto:patchwork@github.com
SUMMARY:Patchwork Boston
URL;VALUE=URI:https://ti.to/github-events/patchwork-boston
URL;VALUE=URI:https://ti.to/github-events/patchwork-boston
END:VEVENT
END:VCALENDAR
