BEGIN:VCALENDAR
VERSION:2.0
PRODID:icalendar-ruby
CALSCALE:GREGORIAN
BEGIN:VEVENT
DTSTAMP:20260424T205932Z
UID:JuIkqQ
DTSTART;VALUE=DATE:20180509
DTEND;VALUE=DATE:20180510
CLASS:PUBLIC
CREATED:20180430T190545
DESCRIPTION: GitHub is teaming up with Code for Asheville and The Collider 
 to host a Patchwork event for anyone in the Asheville area. The event is o
 pen to anyone who is a beginner to Git and GitHub\, or mentors who would l
 ike to help others learn. We'll have stickers and a little something extra
  for mentors\, so we hope to see you there.  \n\n A host of GitHubbers\, a
 s well as local community mentors\, will be on hand to walk you through yo
 ur choice of learning modules: \n\n \n Introduction to GitHub \n Communica
 ting using Markdown \n GitHub Pages \n Managing merge conflicts \n Moving 
 your project to GitHub \n \n\n If you have questions about the command lin
 e\, GUIs\, or anything Git and GitHub-related\, we're here to help. \n\n F
 ood and refreshments will be available. \n\n If you do not yet have a GitH
 ub account\, we ask that you sign up at https://github.com before you atte
 nd the event. It's fast\, easy\, and of course\, free. That way you'll be 
 ready to go right out of the gate. \n\n Mentors\, you'll receive an email 
 a few days before the event with details about what to expect and the curr
 iculum. \n\n Details: \n\n \n For: Anyone who is Git and GitHub beginner\,
  or anyone who would like to mentor \n When?  May 9th\, 6:30-9:30pm \n Whe
 re? The Collider\, 1 Haywood St\, Suite 401\, Asheville\, NC 28801 \n \n
LAST-MODIFIED:20180522T205128
LOCATION:The Collider\, 1 Haywood St\, Suite 401\, Asheville\, NC 28801
ORGANIZER:mailto:patchwork@github.com
SUMMARY:Patchwork Asheville
URL;VALUE=URI:https://ti.to/github-events/patchwork-asheville
URL;VALUE=URI:https://ti.to/github-events/patchwork-asheville
END:VEVENT
END:VCALENDAR
