BEGIN:VCALENDAR
VERSION:2.0
PRODID:icalendar-ruby
CALSCALE:GREGORIAN
BEGIN:VEVENT
DTSTAMP:20260426T002420Z
UID:T6Ybaw
DTSTART;VALUE=DATE:20151028
DTEND;VALUE=DATE:20151029
CLASS:PUBLIC
CREATED:20151006T180211
DESCRIPTION:  \n\n Join us at WeWork  Amsterdam for a night of hands-on hac
 king and learning about Git and GitHub. \n\n A gaggle of GitHubbers will b
 e on hand\, as well as local community mentors\, to walk you through the H
 ello World tutorial\, answer your questions\, help you create your first o
 pen source project and achieve your first merged Pull Request. \n\n If you
  have questions about the command line\, GUIs\, or anything Git and GitHub
 -related\, we're here to help. \n\n Food and refreshments will be availabl
 e. \n\n If you do not yet have a GitHub account\, we ask that you sign up 
 at https://github.com before you attend the event. It's fast\, easy\, and 
 of course\, free. That way you'll be ready to go right out of the gate. \n
 \n Mentors\, you'll receive an email a few days before the event with deta
 ils about what to expect and the curriculum. We'll be teaching Git concept
 s and making a Pull Request using the GitHub Flow and Hello World tutorial
  guide. \n\n Details: \n\n \n For: Git and GitHub beginners \n When? Octob
 er 28\, 6:30-9:30 pm \n Where? WeWork\, Weteringschans 165\, 1017 XD Amste
 rdam\, NETHERLANDS \n \n
LAST-MODIFIED:20151028T142851
LOCATION:Amsterdam\, Netherlands
ORGANIZER:mailto:patchwork@github.com
SUMMARY:Patchwork Amsterdam
URL;VALUE=URI:https://ti.to/github-events/patchwork-amsterdam
URL;VALUE=URI:https://ti.to/github-events/patchwork-amsterdam
END:VEVENT
END:VCALENDAR
