BEGIN:VCALENDAR
VERSION:2.0
PRODID:icalendar-ruby
CALSCALE:GREGORIAN
BEGIN:VEVENT
DTSTAMP:20260421T220911Z
UID:EuXR6Q
DTSTART;VALUE=DATE:20150115
DTEND;VALUE=DATE:20150117
CLASS:PUBLIC
CREATED:20141202T173644
DESCRIPTION: Developer and Researcher Summit: OER\, Data\, APIs and Interop
 erability in Simulations\, Games and Learning Analytics \n\n Data from dig
 ital technologies and environments hold great potential to inform us about
  learning. We need your thinking to help us explore and unlock this synerg
 y\, in an interactive\, invitation-only summit at the appropriately gorgeo
 us\, geeky and innovation-inspiring GitHub headquarters in San Francisco. 
 Register now to join us and kick off the new year in style! \n\n A formal 
 agenda will be forthcoming\, but rest assured that it will leave plenty of
  time for networking and other spontaneous brainstorming with interesting 
 folks. Plus you’ll be a VIP guest at an evening event co-hosted with Git
 Hub and EdSurge with Bay Area and Silicon Valley luminaries. Sound suffici
 ently awesome? It will be\, but only if you’re there\, too! \n\n The Sco
 op \n\n January 15:\nOER Summit Day 1\, 9 a.m. - 6 p.m.\nEvening meetup ev
 ent\, 6:30 - 10 p.m.  \n\n January 16: \nOER Summit Day 2\, 9 a.m. - 2 p.m
 . \n\n Travel:\nNote that BART now goes to Oakland airport as well. So you
  have a choice -- fly into SFO or OAK. \n\n Accommodations:\nA block of ro
 oms is available at the Galleria Park Hotel. Please book by December 15 be
 fore the rooms are gone! Use Group Code: OERSUMMIT. Or for a different San
  Francisco experience\, try Airbnb.  \n\n Cost (Hint: It’s free):\nLike 
 all good things in life\, summit registration is free. Complimentary (and 
 delicious!) food and drink will be provided courtesy of GitHub. \n\n \n Li
 mited travel assistance for flight/hotel is available. Please contact oer-
 summit@concord.org for more information. \n \n\n  \n
LAST-MODIFIED:20150115T014004
LOCATION:GitHub HQ: 88 Colin P Kelly Jr. Street\, San Francisco 
ORGANIZER:mailto:oer-summit@concord.org
SUMMARY:Developer and Researcher Summit
URL;VALUE=URI:https://ti.to/github-events/developer-and-researcher-summit-
URL;VALUE=URI:https://ti.to/github-events/developer-and-researcher-summit-
END:VEVENT
END:VCALENDAR
