BEGIN:VCALENDAR
VERSION:2.0
PRODID:icalendar-ruby
CALSCALE:GREGORIAN
BEGIN:VEVENT
DTSTAMP:20260420T081455Z
UID:Mds2Uw
DTSTART;VALUE=DATE:20241207
DTEND;VALUE=DATE:20241209
CLASS:PUBLIC
CREATED:20241009T083806
DESCRIPTION: Saturday 7th December or Sunday 8th December 8th 2024 \n\n Pax
 mead will be transformed into a winter wonderland\, there will be Snowmen 
 to Naughty Elves\, Christmas Trees to Good Fairies\, lots of things to mak
 e\, games to play and fun to be had. Who knows\, if everyone is good\, per
 haps a visit from Father Christmas! \n\n £20 per Rainbow which include th
 e event badge. \n\n NOTE : You can pay by invoice using BACS or cheque)\, 
 paypal or card. Please select your preferred option at checkout. \n\n Dead
 line for applications 13th November \n\n Exact start and end times for you
 r group will be shared with you once bookings have closed. \n\n Leaders wi
 ll be responsible for their own girls. Please book tickets for all your at
 tending adults as well. You must ensure you bring 1 adult for every 5 Rain
 bows. \n\n Once you have booked we will email you the consent form for the
  event\, it will be leaders responsibilities to complete and collect these
  for all Rainbows in your group. \n
LAST-MODIFIED:20260313T162715
LOCATION:Paxmead Riverside Base Dockett Eddy Lane Shepperton TW17 9NT
ORGANIZER:mailto:PaxmeadEvents@ggsw.org.uk
SUMMARY:Rainbows Winter Wonderland - Paxmead 2024
URL;VALUE=URI:https://ti.to/girlguiding-surrey-west/winter-wonderland-2024
URL;VALUE=URI:https://ti.to/girlguiding-surrey-west/winter-wonderland-2024
END:VEVENT
END:VCALENDAR
