BEGIN:VCALENDAR
VERSION:2.0
PRODID:icalendar-ruby
CALSCALE:GREGORIAN
BEGIN:VEVENT
DTSTAMP:20260420T064330Z
UID:IglGdg
DTSTART:20260418T093000
DTEND:20260419T163000
CLASS:PUBLIC
CREATED:20260112T111955
DESCRIPTION: Please note that all times listed will be your preferred time 
 slot as we may have to adjust if demand is not so great at certain periods
  over the weekend.\nIf you are booking a small number e.g. 4 tickets\, the
 n please note that you may be sharing your timeslot with another small gro
 up. \n\n Your preferred time slot is your arrival time. Please arrive on t
 ime for your check-in\, safety briefing and harnessing. Your overall time 
 at Wild Wood is approximately 90 minutes. E.g. if you have a preferred tim
 e slot of 11am\, then you can expect to finish at approximately 12.30pm. \
 n\n \n\n Which course should I book? \n\n Wild Kids: Open to everyone aged
  7+ and over 1m in height. Particularly suited to Brownies (or Guides less
  than 1.4m in height so unable to access Extreme Wild) or anyone a little 
 nervous about heights. \n\n Extreme Wild: Open to everyone aged 10+ and ov
 er 1.4m height. Particularly suited to Guides\, Rangers\, Young Leaders an
 d volunteers. \n\n \n
LAST-MODIFIED:20260416T163737
LOCATION:Wild Wood\, Stoke Park\, Lido Road\, Guildford GU1 1HB
ORGANIZER:mailto:office@ggsw.org.uk
SUMMARY:Wild Wood Takeover 18th/19th April 2026
URL;VALUE=URI:https://ti.to/girlguiding-surrey-west/wild-wood-takeover-18th
 19th-april-2026
URL;VALUE=URI:https://ti.to/girlguiding-surrey-west/wild-wood-takeover-18th
 19th-april-2026
END:VEVENT
END:VCALENDAR
