BEGIN:VCALENDAR
VERSION:2.0
PRODID:icalendar-ruby
CALSCALE:GREGORIAN
BEGIN:VEVENT
DTSTAMP:20260420T063645Z
UID:5d0FRw
DTSTART:20250209T093000
DTEND:20250209T150000
CLASS:PUBLIC
CREATED:20241127T125943
DESCRIPTION: The Instructor Course will be a day long course\, ending with 
 the newly trained instructors running a two hour experience session. \n\n 
 \n How to provide Tomahawk Throwing as an activity for our young people sa
 fely and within the bounds of Girlguiding. \n Understand what equipment ca
 n and can’t be used \n How to construct a range \n Understand throwing t
 echniques and how to correct them \n Consider session plans\, targets\, co
 mpetitions and games \n \n\n You will need: dress for the weather\, hiking
  boots\, waterproofs\, layers\, gloves – training will be both inside an
 d out.  \n\n Bring your own mug and lunch. \n\n We will provide: coffees\,
  teas and biscuits \n\n Date: Sunday 9th Feb 2025 \n\n Times: 9.30am - 3pm
  \n\n Location: Paxmead Riverside Base Shepperton \n\n Cost: £47  \n
LAST-MODIFIED:20260313T162715
LOCATION:Paxmead Riverside Base\, Dockett Eddy Lane\, Shepperton\, Middlese
 x\, TW17 9NT
ORGANIZER:mailto:office@ggsw.org.uk
SUMMARY:Tomahawk Training 2025
URL;VALUE=URI:https://ti.to/girlguiding-surrey-west/tomahawk-training-2025
URL;VALUE=URI:https://ti.to/girlguiding-surrey-west/tomahawk-training-2025
END:VEVENT
END:VCALENDAR
