BEGIN:VCALENDAR
VERSION:2.0
PRODID:icalendar-ruby
CALSCALE:GREGORIAN
BEGIN:VEVENT
DTSTAMP:20260420T064136Z
UID:UJdSSA
DTSTART:20260125T133000
DTEND:20260125T153000
CLASS:PUBLIC
CREATED:20250904T093217
DESCRIPTION: This session run by Vicky Cunningham\, County Young Leader Coo
 rdinator\, will help Leaders who already have Young Leaders\, learn about 
 the Young Leader Development Programme\, ponder the complimentary skills t
 hey bring to your leadership team\, consider what support your Young Leade
 r needs from you to thrive in the role and how you can advocate other oppo
 rtunities they may be interested in exploring for themselves. You'll leave
  the session with a renewed enthusiasm for mentoring the leaders of tomorr
 ow! Please note that the content will be very similar to the session prese
 nted at County Day in January 2025 but those who attended this session are
  more than welcome to come along for a refresher. \n
LAST-MODIFIED:20260313T162715
LOCATION:Hoe Valley Community Building\, Kingfield Road\, Woking\, Surrey G
 U22 9BA
ORGANIZER:mailto:becky@ggsw.org.uk
SUMMARY:Leaders of Tomorrow: Supporting your Young Leader
URL;VALUE=URI:https://ti.to/girlguiding-surrey-west/supporting-yls-january
URL;VALUE=URI:https://ti.to/girlguiding-surrey-west/supporting-yls-january
END:VEVENT
END:VCALENDAR
