BEGIN:VCALENDAR
VERSION:2.0
PRODID:icalendar-ruby
CALSCALE:GREGORIAN
BEGIN:VEVENT
DTSTAMP:20260420T081337Z
UID:pi9Eog
DTSTART;VALUE=DATE:20241201
DTEND;VALUE=DATE:20241202
CLASS:PUBLIC
CREATED:20240909T092803
DESCRIPTION: Sunday 1st December 024 \n\n Venue : Ninja Warrior Guildford
 \, 2 Thornberry Way\, Guildford GU1 1DQ \n\n  \nPlease note that tickets a
 re non refundable. If you have girls drop out of the event it is your resp
 onsibility to fill the place. \n\n You may pay by invoice/BACS\, please se
 lect this option at checkout. \n\n CONSENT FORMS\nConsent forms alongside 
 waiver forms will be emailed to all ticket holders along with full details
  of the event. Unit leaders will be responsible for distributing and colle
 cting all consent forms for their girls for this event. You may wish to ad
 d/change the travel arrangements etc on these forms to suit your local arr
 angements. \n\n Please note : Your email will be shared with Ninja Warrior
  Guildford \n\n You do not need to assign tickets\, you can skip this part
  if the system asks. \n\n The system occasionally locks to prevent oversel
 ling of tickets\, if this happens please wait and refresh. \n
LAST-MODIFIED:20260313T162715
LOCATION:
ORGANIZER:mailto:office@ggsw.org.uk
SUMMARY:Ninja Warrior Takeover
URL;VALUE=URI:https://ti.to/girlguiding-surrey-west/ninja-warrior-takeover
URL;VALUE=URI:https://ti.to/girlguiding-surrey-west/ninja-warrior-takeover
END:VEVENT
END:VCALENDAR
