BEGIN:VCALENDAR
VERSION:2.0
PRODID:icalendar-ruby
CALSCALE:GREGORIAN
BEGIN:VEVENT
DTSTAMP:20260420T080643Z
UID:YDWrdQ
DTSTART:20240317T150000
DTEND:20240317T170000
CLASS:PUBLIC
CREATED:20240108T092130
DESCRIPTION: This event is open to Brownie units \n\n Saturday 17th March \
 n\n **Cost: ** £19.95 per Brownie \n\n One free participating adult/young
  leader place for every 6 tickets purchased\, non participating adults may
  attend for free. \n\n Time: 3pm until 5pm \n\n Place: Ninja Warrior UK Gu
 ildford\, 2 Thornberry Way\, Guildford GU1 1DQ\n \nDress: Brownie uniform/
 active wear \n\n This event sold out incredibly quickly\, we are talking t
 o Ninja Warrior to see if we can extend this day to offer more sessions. P
 lease join the joining list if this would be of interest to you. \n\n Plea
 se note : Tickets are non refundable. If you have a Brownie drop out then 
 it is your responsibility to fill her place. \n
LAST-MODIFIED:20260313T162715
LOCATION:Ninja Warrior UK Guildford 2 Thornberry Way\, Guildford GU1 1DQ  
ORGANIZER:mailto:laura@ggsw.org.uk
SUMMARY:Ninja Warrior - Brownie event
URL;VALUE=URI:https://ti.to/girlguiding-surrey-west/ninja-brownies
URL;VALUE=URI:https://ti.to/girlguiding-surrey-west/ninja-brownies
END:VEVENT
END:VCALENDAR
