BEGIN:VCALENDAR
VERSION:2.0
PRODID:icalendar-ruby
CALSCALE:GREGORIAN
BEGIN:VEVENT
DTSTAMP:20260420T063958Z
UID:JyB3mw
DTSTART:20251004T090000
DTEND:20251004T160000
CLASS:PUBLIC
CREATED:20250401T145341
DESCRIPTION: This is the chance for Leaders in Training to complete all or 
 any of the 5 compulsory trainings as part of the Leadership Development Pr
 ogramme\, face to face and in a fun\, informal environment. \n
LAST-MODIFIED:20260313T162715
LOCATION: Venue : The Generation Centre\, Denton Way\, Woking GU21 3LG
ORGANIZER:mailto:office@ggsw.org.uk
SUMMARY:Leadership development day - October
URL;VALUE=URI:https://ti.to/girlguiding-surrey-west/ldp-day-october
URL;VALUE=URI:https://ti.to/girlguiding-surrey-west/ldp-day-october
END:VEVENT
END:VCALENDAR
