BEGIN:VCALENDAR
VERSION:2.0
PRODID:icalendar-ruby
CALSCALE:GREGORIAN
BEGIN:VEVENT
DTSTAMP:20260420T065633Z
UID:SLMxWQ
DTSTART:20251207T093000
DTEND:20251207T160000
CLASS:PUBLIC
CREATED:20251003T120849
DESCRIPTION: This is the chance for those registered on the Going Away With
  scheme (GAW) to receive training on any or all of the modules (inc. campi
 ng) in a face to face and fun\, informal environment. Ideal for those look
 ing to complete their GAW in 2026. Includes lunch! \n
LAST-MODIFIED:20260313T162715
LOCATION: Venue : Weyside\, Herons Wey\, Sheephatch Lane\, Tilford GU10 1AQ
ORGANIZER:mailto:office@ggsw.org.uk
SUMMARY:GAW (Going Away With) Training Day
URL;VALUE=URI:https://ti.to/girlguiding-surrey-west/gaw-training-december
URL;VALUE=URI:https://ti.to/girlguiding-surrey-west/gaw-training-december
END:VEVENT
END:VCALENDAR
