BEGIN:VCALENDAR
VERSION:2.0
PRODID:icalendar-ruby
CALSCALE:GREGORIAN
BEGIN:VEVENT
DTSTAMP:20260420T063728Z
UID:RAQ1PA
DTSTART:20241026T093000
DTEND:20241026T163000
CLASS:PUBLIC
CREATED:20240705T110000
DESCRIPTION: This is the full First Response course\, to include all theory
  and practical elements. \n\n Venue : Old Woking Community Centre\, Sundri
 dge Road\, Woking\, GU22 9AT \n\n Times : 9.30am until 4.30pm \n\n Please 
 note that the cost of this training should be claimed back from your unit.
  \n\n Please note that you must hold an active volunteering role to attend
 . This course is for adult (18+) volunteers only\, if you have a young lea
 der or Ranger that would like to attend please email Laura to book a place
  on laura@ggsw.org.uk to arrange. \n
LAST-MODIFIED:20260313T162715
LOCATION:
ORGANIZER:mailto:laura@ggsw.org.uk
SUMMARY:First Response Training - 26th Oct - Woking
URL;VALUE=URI:https://ti.to/girlguiding-surrey-west/first-response-oct-woki
 ng
URL;VALUE=URI:https://ti.to/girlguiding-surrey-west/first-response-oct-woki
 ng
END:VEVENT
END:VCALENDAR
