BEGIN:VCALENDAR
VERSION:2.0
PRODID:icalendar-ruby
CALSCALE:GREGORIAN
BEGIN:VEVENT
DTSTAMP:20260420T063929Z
UID:kkktBA
DTSTART:20251005T090000
DTEND:20251005T163000
CLASS:PUBLIC
CREATED:20250903T165157
DESCRIPTION: This is the full First Response course\, to include all theory
  and practical elements. \n\n Times : 9am until 4.30pm \n\n Please note th
 at the cost of this training should be claimed back from your unit. You ca
 n also claim back any travel costs. \n
LAST-MODIFIED:20260313T162715
LOCATION:Guide and Scout headquarters\, School Walk\, Sunbury. TW16 6RB
ORGANIZER:mailto:becky@ggsw.org.uk
SUMMARY:First Response Training -Sunday 5th October - Sunbury
URL;VALUE=URI:https://ti.to/girlguiding-surrey-west/first-response-oct-sunb
 ury
URL;VALUE=URI:https://ti.to/girlguiding-surrey-west/first-response-oct-sunb
 ury
END:VEVENT
END:VCALENDAR
