BEGIN:VCALENDAR
VERSION:2.0
PRODID:icalendar-ruby
CALSCALE:GREGORIAN
BEGIN:VEVENT
DTSTAMP:20260420T063854Z
UID:haNsxg
DTSTART:20251012T090000
DTEND:20251012T163000
CLASS:PUBLIC
CREATED:20250903T164659
DESCRIPTION: This is the full First Response course\, to include all theory
  and practical elements. \n\n Times : 9am until 4pm \n\n Please note that 
 the cost of this training should be claimed back from your unit. You can a
 lso claim back any travel costs. \n
LAST-MODIFIED:20260313T162715
LOCATION:Camberley West District Guide Headquarters - Crabtree Road\, Cambe
 rley\, GU15 2TA
ORGANIZER:mailto:becky@ggsw.org.uk
SUMMARY:First Response Training -Sunday 12th October - Camberley
URL;VALUE=URI:https://ti.to/girlguiding-surrey-west/first-response-oct-camb
 erley
URL;VALUE=URI:https://ti.to/girlguiding-surrey-west/first-response-oct-camb
 erley
END:VEVENT
END:VCALENDAR
