BEGIN:VCALENDAR
VERSION:2.0
PRODID:icalendar-ruby
CALSCALE:GREGORIAN
BEGIN:VEVENT
DTSTAMP:20260420T063854Z
UID:uWdUJQ
DTSTART:20240601T093000
DTEND:20240601T163000
CLASS:PUBLIC
CREATED:20240418T093104
DESCRIPTION: This is the full First Response course\, to include all theory
  and practical elements. \n\n Times :9.00am until 4.00pm \n\n Please note 
 that the cost of this training should be claimed back from your unit. \n
LAST-MODIFIED:20260313T162715
LOCATION:1st Merrow Scout Hall\, 58 Bushy Hill Dr\, Guildford GU1 2UJ
ORGANIZER:mailto:laura@ggsw.org.uk
SUMMARY:First Response Training - Saturday 1st June - Merrow Scout Hall
URL;VALUE=URI:https://ti.to/girlguiding-surrey-west/first-response-merrow-j
 une
URL;VALUE=URI:https://ti.to/girlguiding-surrey-west/first-response-merrow-j
 une
END:VEVENT
END:VCALENDAR
