BEGIN:VCALENDAR
VERSION:2.0
PRODID:icalendar-ruby
CALSCALE:GREGORIAN
BEGIN:VEVENT
DTSTAMP:20260420T064452Z
UID:sYVNHA
DTSTART:20260329T093000
DTEND:20260329T163000
CLASS:PUBLIC
CREATED:20260130T151320
DESCRIPTION: This is the full First Response course\, to include all theory
  and practical elements. \n\n Times :9.30am until 4.30pm \n\n Please note 
 that the cost of this training should be claimed back from your unit. \n
LAST-MODIFIED:20260313T162715
LOCATION:Guildford Guide Hall\,  Nightingale Road\, Guildford\, Surrey\, 
 GU1 1ER
ORGANIZER:mailto:becky@ggsw.org.uk
SUMMARY:First Response Training - Sunday 29th March - Guildford Guide Hall
URL;VALUE=URI:https://ti.to/girlguiding-surrey-west/first-response-march-gu
 ildford
URL;VALUE=URI:https://ti.to/girlguiding-surrey-west/first-response-march-gu
 ildford
END:VEVENT
END:VCALENDAR
