BEGIN:VCALENDAR
VERSION:2.0
PRODID:icalendar-ruby
CALSCALE:GREGORIAN
BEGIN:VEVENT
DTSTAMP:20260420T063951Z
UID:WmNhIg
DTSTART:20240615T093000
DTEND:20240615T163000
CLASS:PUBLIC
CREATED:20240328T124759
DESCRIPTION: This is the full First Response course\, to include all theory
  and practical elements. \n\n Times : 9.30am until 4.30pm \n\n Please note
  that the cost of this training should be claimed back from your unit. \n
LAST-MODIFIED:20260313T162715
LOCATION:3rd Molesey Scout Hut\, St Peters Road\, West Molesey. KT8 2QE
ORGANIZER:mailto:laura@ggsw.org.uk
SUMMARY:First Response Training - Sat 15th June - Molesey
URL;VALUE=URI:https://ti.to/girlguiding-surrey-west/first-response-june-mol
 esey
URL;VALUE=URI:https://ti.to/girlguiding-surrey-west/first-response-june-mol
 esey
END:VEVENT
END:VCALENDAR
