BEGIN:VCALENDAR
VERSION:2.0
PRODID:icalendar-ruby
CALSCALE:GREGORIAN
BEGIN:VEVENT
DTSTAMP:20260420T081725Z
UID:gFmEag
DTSTART:20250712T093000
DTEND:20250712T163000
CLASS:PUBLIC
CREATED:20250512T152934
DESCRIPTION: This is the full First Response course\, to include all theory
  and practical elements. \n\n Cranleigh Village Hall\, Village Way\, Cranl
 eigh GU6 8AF \n\n Times : 9.30am until 4.30pm \n\n Please note that the co
 st of this training should be claimed back from your unit. \n\n Please not
 e that you must hold an active volunteering role to attend. This course is
  for adult (18+) volunteers only\, if you have a young leader or Ranger th
 at would like to attend please email Becky to book a place on becky@ggsw.o
 rg.uk to arrange. \n
LAST-MODIFIED:20260313T162715
LOCATION:
ORGANIZER:mailto:becky@ggsw.org.uk
SUMMARY:First Response Training - 12th July - Cranleigh
URL;VALUE=URI:https://ti.to/girlguiding-surrey-west/first-response-july-cra
 nleigh
URL;VALUE=URI:https://ti.to/girlguiding-surrey-west/first-response-july-cra
 nleigh
END:VEVENT
END:VCALENDAR
