BEGIN:VCALENDAR
VERSION:2.0
PRODID:icalendar-ruby
CALSCALE:GREGORIAN
BEGIN:VEVENT
DTSTAMP:20260420T064438Z
UID:mK2biw
DTSTART;VALUE=DATE:20240120
DTEND;VALUE=DATE:20240121
CLASS:PUBLIC
CREATED:20231013T115913
DESCRIPTION: This is the full First Response course\, to include all theory
  and practical elements. \n\n Times :9.30am until 4.30pm \n\n This session
  is due to be run inside. Participants can wear a mask if they wish \n\n P
 lease note that the cost of this training should be claimed back from your
  unit. \n
LAST-MODIFIED:20260313T162715
LOCATION:Paxmead Riverside Base\, Dockett Eddy Lane\, Shepperton\, Middlese
 x\, TW17 9NT
ORGANIZER:mailto:laura@ggsw.org.uk
SUMMARY:First Response Training - Saturday January 20th - Paxmead Riverside
  Base
URL;VALUE=URI:https://ti.to/girlguiding-surrey-west/first-response-jan-paxm
 ead
URL;VALUE=URI:https://ti.to/girlguiding-surrey-west/first-response-jan-paxm
 ead
END:VEVENT
END:VCALENDAR
