BEGIN:VCALENDAR
VERSION:2.0
PRODID:icalendar-ruby
CALSCALE:GREGORIAN
BEGIN:VEVENT
DTSTAMP:20260420T064616Z
UID:uV19pQ
DTSTART:20260228T093000
DTEND:20260228T163000
CLASS:PUBLIC
CREATED:20260126T134425
DESCRIPTION: This is the full First Response course\, to include all theory
  and practical elements. \n\n Times : 9.30am until 4.30pm \n\n Please note
  that the cost of this training should be claimed back from your unit. You
  can also claim back any travel costs. \n
LAST-MODIFIED:20260313T162715
LOCATION:Camberley West District Guide Headquarters - Crabtree Road\, Cambe
 rley\, GU15 2TA
ORGANIZER:mailto:becky@ggsw.org.uk
SUMMARY:First Response Training -Saturday 28th February - Camberley
URL;VALUE=URI:https://ti.to/girlguiding-surrey-west/first-response-feb-camb
 erley
URL;VALUE=URI:https://ti.to/girlguiding-surrey-west/first-response-feb-camb
 erley
END:VEVENT
END:VCALENDAR
