BEGIN:VCALENDAR
VERSION:2.0
PRODID:icalendar-ruby
CALSCALE:GREGORIAN
BEGIN:VEVENT
DTSTAMP:20260420T064105Z
UID:Jfm3xg
DTSTART:20250427T090000
DTEND:20250427T160000
CLASS:PUBLIC
CREATED:20250226T114037
DESCRIPTION: This is the full First Response course\, to include all theory
  and practical elements. \n\n Times : 9.00am until 4.00pm \n\n Please note
  that the cost of this training should be claimed back from your unit. You
  can also claim back any travel costs. \n\n * This course will be run by a
  male scout leader \n
LAST-MODIFIED:20260313T162715
LOCATION:Oxshott Community Hub  Between 64-66\, Waverley Road  Oxshott  Sur
 rey KT22 0RZTA
ORGANIZER:mailto:becky@ggsw.org.uk
SUMMARY:First Response Training -Sunday 27th April - Oxshott Community Hub
URL;VALUE=URI:https://ti.to/girlguiding-surrey-west/first-response-april-ox
 shott
URL;VALUE=URI:https://ti.to/girlguiding-surrey-west/first-response-april-ox
 shott
END:VEVENT
END:VCALENDAR
