BEGIN:VCALENDAR
VERSION:2.0
PRODID:icalendar-ruby
CALSCALE:GREGORIAN
BEGIN:VEVENT
DTSTAMP:20260420T061814Z
UID:dsLBCg
DTSTART:20260418T100000
DTEND:20260418T160000
CLASS:PUBLIC
CREATED:20260303T134932
DESCRIPTION: This is the full First Response course\, to include all theory
  and practical elements. \n\n Times : 10am until 4pm \n\n The cost of this
  training should be claimed back from your unit. \n\n Please note that you
  must hold an active volunteering role to attend. Young leaders need to be
  age 16+ \n\n This is a Scout run course and will be run by a female Scout
  leader. By signing up you agree to us sharing your details with Surrey Sc
 outs for the purpose of informing you of furth course details. \n
LAST-MODIFIED:20260413T142056
LOCATION:Baden Powell room\, Guide & Scout HQ\, Goldsworth House\, Woking G
 U21 3LQ
ORGANIZER:mailto:becky@ggsw.org.uk
SUMMARY:First Response Training -18th April - Goldsworth Park\, Woking
URL;VALUE=URI:https://ti.to/girlguiding-surrey-west/first-response-18april-
 goldsworthpark
URL;VALUE=URI:https://ti.to/girlguiding-surrey-west/first-response-18april-
 goldsworthpark
END:VEVENT
END:VCALENDAR
