BEGIN:VCALENDAR
VERSION:2.0
PRODID:icalendar-ruby
CALSCALE:GREGORIAN
BEGIN:VEVENT
DTSTAMP:20260419T134715Z
UID:nP4ezA
DTSTART:20261017T100000
DTEND:20261017T160000
CLASS:PUBLIC
CREATED:20260303T135833
DESCRIPTION: This is the full First Response course\, to include all theory
  and practical elements. \n\n Times : 10am until 4pm \n\n The cost of this
  training should be claimed back from your unit. \n\n Please note that you
  must hold an active volunteering role to attend. Young leaders need to be
  age 16+ \n\n This is a Scout run course and will be run by a female Scout
  leader. By signing up you agree to us sharing your details with Surrey Sc
 outs for the purpose of informing you of furth course details. \n
LAST-MODIFIED:20260313T162715
LOCATION:Baden Powell room\, Guide & Scout HQ\, Goldsworth House\, Woking G
 U21 3LQ
ORGANIZER:mailto:becky@ggsw.org.uk
SUMMARY:First Response Training -17th October - Goldsworth Park\, Woking
URL;VALUE=URI:https://ti.to/girlguiding-surrey-west/first-response-17oct-go
 ldsworthpark
URL;VALUE=URI:https://ti.to/girlguiding-surrey-west/first-response-17oct-go
 ldsworthpark
END:VEVENT
END:VCALENDAR
