BEGIN:VCALENDAR
VERSION:2.0
PRODID:icalendar-ruby
CALSCALE:GREGORIAN
BEGIN:VEVENT
DTSTAMP:20260420T064259Z
UID:NdNVdw
DTSTART:20260315T090000
DTEND:20260315T160000
CLASS:PUBLIC
CREATED:20251009T141141
DESCRIPTION: This is the full First Response course\, to include all theory
  and practical elements. \n\n Times : 9am until 4pm \n\n The cost of this 
 training should be claimed back from your unit. \n\n Please note that you 
 must hold an active volunteering role to attend. Young leaders need to be 
 age 16+ \n\n This is a Scout run course and will be run by a male Scout le
 ader. By signing up you agree to us sharing your details with Surrey Scout
 s for the purpose of informing you of furth course details. \n
LAST-MODIFIED:20260313T162715
LOCATION:Horsell Guide & Scout HQ\, 121 High Street\, Horsell  Woking\, Sur
 rey GU21 4SS
ORGANIZER:mailto:becky@ggsw.org.uk
SUMMARY:First Response Training - 15th March - Horsell\, Woking
URL;VALUE=URI:https://ti.to/girlguiding-surrey-west/first-response-15march-
 horsell
URL;VALUE=URI:https://ti.to/girlguiding-surrey-west/first-response-15march-
 horsell
END:VEVENT
END:VCALENDAR
