BEGIN:VCALENDAR
VERSION:2.0
PRODID:icalendar-ruby
CALSCALE:GREGORIAN
BEGIN:VEVENT
DTSTAMP:20260420T064345Z
UID:26PYdA
DTSTART:20240706T100000
DTEND:20240706T170000
CLASS:PUBLIC
CREATED:20240605T132529
DESCRIPTION: Come and join us with Old Scout Bushcraft as we have a day of 
 bushcraft training at Herons Wey Campsite. We will cover the essentials of
  knife and axe work\, learn how to select the correct wood for successful 
 projects and develop skills to share with your units. Backwoods cooking\, 
 fire lighting and tool use included.  \n\n You will need: dress for the we
 ather\, hiking boots\, waterproofs\, layers\, gloves\, sun cream! – trai
 ning will be in and out\, but experience will be outside the whole time an
 d there will be some waiting. Bring your own lunch. \n\n Date: 6th July  \
 n\n Times: 10am-5pm \n\n Location: Herons Wey Campsite\, Tilford\, Farnham
  GU10 2AQ \n\n Cost: £5  \n
LAST-MODIFIED:20260313T162715
LOCATION:Herons Wey Campsite\, Tilford\, Farnham GU10 2AQ
ORGANIZER:mailto:laura@ggsw.org.uk
SUMMARY:Bushcraft training for adults
URL;VALUE=URI:https://ti.to/girlguiding-surrey-west/bushcraft-2024
URL;VALUE=URI:https://ti.to/girlguiding-surrey-west/bushcraft-2024
END:VEVENT
END:VCALENDAR
