BEGIN:VCALENDAR
VERSION:2.0
PRODID:icalendar-ruby
CALSCALE:GREGORIAN
BEGIN:VEVENT
DTSTAMP:20260421T223124Z
UID:YpWsPw
DTSTART;VALUE=DATE:20261207
DTEND;VALUE=DATE:20261209
CLASS:PUBLIC
CREATED:20251202T124436
DESCRIPTION: Join us at what The Financial Times calls "The UK's largest\, 
 most valuable annual NHS festival of innovation and technology." \n\n GIAN
 T Health is forecasting over 4\,000 passionate ICB and NHS Hospital Trust 
 leaders\, innovators\, and technology suppliers\; attending our in-person 
 event in London. Register for your ticket now for invaluable networking\, 
 and unmissable content from 100s of NHS leaders and industry experts. 8 ho
 urs of CPD credits per day available \n
LAST-MODIFIED:20260313T104320
LOCATION:
ORGANIZER:mailto:b@GIANT.health
SUMMARY:GIANT Health 2026\, London\, England
URL;VALUE=URI:https://ti.to/gianthealthevent/giant-health-main-event-london
 -2026
URL;VALUE=URI:https://ti.to/gianthealthevent/giant-health-main-event-london
 -2026
END:VEVENT
END:VCALENDAR
