BEGIN:VCALENDAR
VERSION:2.0
PRODID:icalendar-ruby
CALSCALE:GREGORIAN
BEGIN:VTIMEZONE
TZID:Australia/Sydney
BEGIN:DAYLIGHT
DTSTART:20241006T030000
TZOFFSETFROM:+1000
TZOFFSETTO:+1100
RRULE:FREQ=YEARLY;BYDAY=1SU;BYMONTH=10
TZNAME:AEDT
END:DAYLIGHT
BEGIN:STANDARD
DTSTART:20240407T020000
TZOFFSETFROM:+1100
TZOFFSETTO:+1000
RRULE:FREQ=YEARLY;BYDAY=1SU;BYMONTH=4
TZNAME:AEST
END:STANDARD
END:VTIMEZONE
BEGIN:VEVENT
DTSTAMP:20260422T041733Z
UID:yeEjow
DTSTART;TZID=Australia/Sydney:20240507T183000
DTEND;TZID=Australia/Sydney:20240507T203000
CLASS:PUBLIC
CREATED:20231019T103621
DESCRIPTION: Come and join Rabblers from all over the country as we converg
 e on Sydney for Locate24. \n\n Pizzas are kindly sponsored by Cartisan \n\
 n Doors open 6:30pm for 7:30pm start. \n
LAST-MODIFIED:20260107T120430
LOCATION:Occidental Hotel\, York St\, Wynyard
ORGANIZER:mailto:info@georabble.org
SUMMARY:GeoRabble Sydney - May the 7th
URL;VALUE=URI:https://ti.to/georabble/georabble-sydney
URL;VALUE=URI:https://ti.to/georabble/georabble-sydney
END:VEVENT
END:VCALENDAR
