BEGIN:VCALENDAR
VERSION:2.0
PRODID:icalendar-ruby
CALSCALE:GREGORIAN
BEGIN:VTIMEZONE
TZID:Australia/Perth
BEGIN:STANDARD
DTSTART:20090329T020000
TZOFFSETFROM:+0900
TZOFFSETTO:+0800
TZNAME:AWST
END:STANDARD
END:VTIMEZONE
BEGIN:VEVENT
DTSTAMP:20260423T135643Z
UID:XVB6pQ
DTSTART;TZID=Australia/Perth:20251119T170000
DTEND;TZID=Australia/Perth:20251119T203000
CLASS:PUBLIC
CREATED:20251008T194205
DESCRIPTION: Are you ready to celebrate *the* most spatial day of the year?
  If so\, have we got the event for you! \n\n Brought to you by our generou
 s sponsors Esri Australia\, we are celebrating a HUGE year in spatial in P
 erth with all the geospatial goodness we know &amp\; love from the fabulou
 s GeoRabble community 🤗 \n\n Grab your tickets now for a fabulous shind
 ig of a soiree - where we share spatial stories\, passions\, inspiration\,
  humour.... and maybe even a little cake 🌏😉 \n
LAST-MODIFIED:20260107T090430
LOCATION:Faradays\, 216 St Georges Tce\, Perth
ORGANIZER:mailto:georabble.perth@gmail.com
SUMMARY:GeoRabble Perth is celebrating GIS Day! 🌏✨
URL;VALUE=URI:https://ti.to/georabble/georabble-perth-gis-day
URL;VALUE=URI:https://ti.to/georabble/georabble-perth-gis-day
END:VEVENT
END:VCALENDAR
