BEGIN:VCALENDAR
VERSION:2.0
PRODID:icalendar-ruby
CALSCALE:GREGORIAN
BEGIN:VTIMEZONE
TZID:Australia/Perth
BEGIN:STANDARD
DTSTART:20090329T020000
TZOFFSETFROM:+0900
TZOFFSETTO:+0800
TZNAME:AWST
END:STANDARD
END:VTIMEZONE
BEGIN:VEVENT
DTSTAMP:20260424T105540Z
UID:Q0m7Qg
DTSTART;TZID=Australia/Perth:20250515T170000
DTEND;TZID=Australia/Perth:20250515T210000
CLASS:PUBLIC
CREATED:20250321T151740
DESCRIPTION: GeoRabble's back – tell your friends!\nJoin us for a night o
 f unfiltered geo-goodness where maps meet mischief and spatial stories tak
 e centre stage. Whether you're a GIS guru\, a carto curious\, or just in i
 t for the food – come rabble with us. Perth. No pitches. No sales. Just 
 pure geo fun. \n
LAST-MODIFIED:20260107T090430
LOCATION:The Globe
ORGANIZER:mailto:georabble.perth@gmail.com
SUMMARY:GeoRabble Perth - 15 May 2025
URL;VALUE=URI:https://ti.to/georabble/georabble-perth-15-may-2025
URL;VALUE=URI:https://ti.to/georabble/georabble-perth-15-may-2025
END:VEVENT
END:VCALENDAR
