BEGIN:VCALENDAR
VERSION:2.0
PRODID:icalendar-ruby
CALSCALE:GREGORIAN
BEGIN:VTIMEZONE
TZID:Australia/Perth
BEGIN:STANDARD
DTSTART:20090329T020000
TZOFFSETFROM:+0900
TZOFFSETTO:+0800
TZNAME:AWST
END:STANDARD
END:VTIMEZONE
BEGIN:VEVENT
DTSTAMP:20260422T115418Z
UID:x2bM3Q
DTSTART;TZID=Australia/Perth:20240911T173000
DTEND;TZID=Australia/Perth:20240911T203000
CLASS:PUBLIC
CREATED:20240816T043908
DESCRIPTION: The rumbling rumours are true.... GeoRabble is RETURNED! In Pe
 rth\, for one night only - gird your calendars with reminders - for this w
 ill be an epic night of all fabulous things spatial! \n
LAST-MODIFIED:20260107T090430
LOCATION:The Shoe 👞 Yagan Square
ORGANIZER:mailto:georabble.perth@gmail.com
SUMMARY:GeoRabble Perth - 11th Sept 24 - The Return of the Rabble
URL;VALUE=URI:https://ti.to/georabble/georabble-perth-11-sept-24-the-return
URL;VALUE=URI:https://ti.to/georabble/georabble-perth-11-sept-24-the-return
END:VEVENT
END:VCALENDAR
