BEGIN:VCALENDAR
VERSION:2.0
PRODID:icalendar-ruby
CALSCALE:GREGORIAN
BEGIN:VTIMEZONE
TZID:Australia/Brisbane
BEGIN:STANDARD
DTSTART:19920301T020000
TZOFFSETFROM:+1100
TZOFFSETTO:+1000
TZNAME:AEST
END:STANDARD
END:VTIMEZONE
BEGIN:VEVENT
DTSTAMP:20260423T125256Z
UID:5j1Odg
DTSTART;TZID=Australia/Brisbane:20241001T180000
DTEND;TZID=Australia/Brisbane:20241001T223000
CLASS:PUBLIC
CREATED:20240828T085523
DESCRIPTION: Yes\, we are back yet again! \n\n As we celebrated the end of 
 the last FY last time\, October marks the end of Q1 in this FY\, it is yet
  another perfect time to get out and celebrate\, catch up with old friends
  and meet some new friends and no better place than at a Georabble in Bris
 bane. \n\n The new committee\, encouraged by the spectacular turn out last
  time is excited to continue bringing great networking events based on the
  success of previous GeoRabbles. \n\n  \n  \n\n S P E A K E R Lineup!! \n\
 n We have an exciting speaker line-up of students and researchers for the 
 night. \n\n \n Payton Te Ngaio - Correlations\nbetween water quality and r
 iparian vegetation within the Herbert catchment \n Josie Yip - A GIS\nappr
 oach to predict pesticide mixture risk in waterways \n Florina Richard - G
 round-to-space\nsensor network for water quality monitoring \n \n\n  \n \n
 Are you passionate about location intelligence or geospatial technologies?
  We’re still seeking dynamic speakers to share their research projects a
 nd insights. \n\n Get in touch with Nicki Kelleway (NKelleway@umwelt.com.a
 u) if you're interested in presenting on the evening! \n\n  \n  \n\n What 
 GeoRabble IS: \n\n We will have the usual group of 10 min talks\, deliciou
 s food courtesy of our sponsor - UQ's and DESI's Reef Catchments Science P
 artnership\, mixed with a lot of fun and great networking opportunities. \
 n\n Venue remains at the Charming Squire who look after us so well. \n\n  
 \n  \n\n Register ASAP! \n\n Help us plan by registering early. \n\n Any q
 uestions? Reach out through our usual channels \n\n We can't wait to see e
 veryone again! \n\n  \n\n  \n
LAST-MODIFIED:20260107T110430
LOCATION:The Charming Squire\, South Brisbane
ORGANIZER:mailto:a.marsh3@uq.edu.au
SUMMARY:Georabble Brisbane - Scholarly Directions
URL;VALUE=URI:https://ti.to/georabble/georabble-brisbane-scholarly-directio
 ns
URL;VALUE=URI:https://ti.to/georabble/georabble-brisbane-scholarly-directio
 ns
END:VEVENT
END:VCALENDAR
