BEGIN:VCALENDAR
VERSION:2.0
PRODID:icalendar-ruby
CALSCALE:GREGORIAN
BEGIN:VTIMEZONE
TZID:Australia/Melbourne
BEGIN:DAYLIGHT
DTSTART:20241006T030000
TZOFFSETFROM:+1000
TZOFFSETTO:+1100
RRULE:FREQ=YEARLY;BYDAY=1SU;BYMONTH=10
TZNAME:AEDT
END:DAYLIGHT
BEGIN:STANDARD
DTSTART:20240407T020000
TZOFFSETFROM:+1100
TZOFFSETTO:+1000
RRULE:FREQ=YEARLY;BYDAY=1SU;BYMONTH=4
TZNAME:AEST
END:STANDARD
END:VTIMEZONE
BEGIN:VEVENT
DTSTAMP:20260422T044429Z
UID:Qx514w
DTSTART;TZID=Australia/Melbourne:20240828T173000
DTEND;TZID=Australia/Melbourne:20240828T193000
CLASS:PUBLIC
CREATED:20240307T110347
DESCRIPTION: Come join us on August 28th\, to hear from our Students and Yo
 ung and Emerging Professionals and how they are shaping the world of spati
 al! \n\n  \n⌛Start time: 5:30pm (talks to begin at 6:00pm) \n\n  \n
 🗣️ We have five amazing presentations on the night \n\n  \n📍 Hoste
 d as always at the Clyde Hotel on 385 Cardigan Street\, come enjoy an even
 ing of presentation with food\, drinks and networking. \n\n  \n⭐Thanks t
 o MNG for sponsoring this event!⭐ \n\n  \n \nFrom Above: LiDAR Insights 
 and Aerial Surveys Across Australia's Remote Regions \n\n Hear Daniel expa
 nd on his experiences as a LiDAR sensor operator\, flying around remote ar
 eas of Australia in a Cessna 182 \n\n Speaker: Daniel Gofron \n\n From Cad
 astral Surveyor to Digital and Spatial Surveyor \n\n Delve into Xavier's j
 ourney of transitioning\, from aspiring Licensed Surveyor to full-fledged 
 Digital and Spatial Surveyor\, all things laser scanning and UAV \n\n Spea
 ker: Xavier Allen \n\n Baby's first GIS tool \n\n Overcoming all adversiti
 es\, Grace builds her first GIS tool to automate the transition from EnSym
  to NVR templates \n\n Speaker: Grace O'Loghlin \n\n "Giorabble" \n\n Come
  experience Giovanna's Spatial Career journey as a Young and Emerging Prof
 essional \n\n Speaker: Giovanna Coombes \n\n Efficient Retrieval of on-far
 m water storage using Google Earth Engine \n\n Learn about the method\, de
 signed to retrieve the on-farm water storage area across large spatial-tem
 poral extents \n\n Speaker: Shirui Hao \n
LAST-MODIFIED:20251029T095702
LOCATION:The Clyde Hotel
ORGANIZER:mailto:georabblemelbourne@gmail.com
SUMMARY:GeoRabble Melbourne – 18th April
URL;VALUE=URI:https://ti.to/georabble-melbourne/georabble-melbourne-april-1
 8
URL;VALUE=URI:https://ti.to/georabble-melbourne/georabble-melbourne-april-1
 8
END:VEVENT
END:VCALENDAR
